BEGIN:VCALENDAR
VERSION:2.0
PRODID:-//ChamberMaster//Event Calendar 2.0//EN
METHOD:PUBLISH
X-PUBLISHED-TTL:P3D
REFRESH-INTERVAL:P3D
CALSCALE:GREGORIAN
BEGIN:VEVENT
DTSTART:20260428T230000Z
DTEND:20260428T230000Z
X-MICROSOFT-CDO-ALLDAYEVENT:FALSE
SUMMARY:Conversational Spanish Groups with Connecting Cultures
DESCRIPTION:This is a structured session with focus on tenses\, grammar\, and themes. All are welcome\, regardless of skill or fluency.
X-ALT-DESC;FMTTYPE=text/html:This is a structured session with focus on tenses\, grammar\, and themes. All are welcome\, regardless of skill or fluency.&nbsp\;
LOCATION:Yankton Community Library
UID:e.1120.59713
SEQUENCE:3
DTSTAMP:20260424T061113Z
URL:http://yanktonsd.chambermaster.com/events/details/conversational-spanish-groups-with-connecting-cultures-59713
END:VEVENT

END:VCALENDAR
