BEGIN:VCALENDAR
VERSION:2.0
PRODID:-//ChamberMaster//Event Calendar 2.0//EN
METHOD:PUBLISH
X-PUBLISHED-TTL:P3D
REFRESH-INTERVAL:P3D
CALSCALE:GREGORIAN
BEGIN:VEVENT
DTSTART:20260428T000000Z
DTEND:20260428T013000Z
X-MICROSOFT-CDO-ALLDAYEVENT:FALSE
SUMMARY:Primary Candidate Forum
DESCRIPTION:The Yankton County SD GOP is inviting community members to attend a series of upcoming Primary Candidate Forums. These events provide an opportunity for the public to pose questions directly to the candidates and hear their responses. The forum schedule is as follows: Monday\, April 27th @ 7 pm Gayville Community Center Gayville\, SD Monday\, May 18th @ 7 pm VFW Yankton\, SD
X-ALT-DESC;FMTTYPE=text/html:The Yankton County SD GOP is inviting community members to attend a series of upcoming Primary Candidate Forums. These events provide an opportunity for the public to pose questions directly to the candidates and hear their responses. The forum schedule is as follows: Monday\, April 27th @ 7 pm Gayville Community Center Gayville\, SD Monday\, May 18th @ 7 pm VFW Yankton\, SD
LOCATION:Gayville Community Center
UID:e.1120.59716
SEQUENCE:3
DTSTAMP:20260423T091859Z
URL:http://yanktonsd.chambermaster.com/events/details/primary-candidate-forum-59716
END:VEVENT

END:VCALENDAR
